View In:
ArcGIS JavaScript
ArcGIS Online Map Viewer
ArcGIS Earth
ArcMap
ArcGIS Pro
View Footprint In:
ArcGIS Online Map Viewer
Service Description: Bildflug im März und August 2024
Map Name: Luftbildkarte
Legend
All Layers and Tables
Dynamic Legend
Dynamic All Layers
Layers:
Description:
Copyright Text: © Kreis Herford - Kataster, Geodaten und Immobilienwerte; Land NRW 2024, OpenStreetMap-Mitwirkende
Spatial Reference:
102100
(3857)
Single Fused Map Cache: true
Tile Info:
- Height: 256
- Width: 256
- DPI: 96
-
Levels of Detail: 24
-
Level ID: 0
[ Start Tile, End Tile ]
- Resolution: 156543.03392800014
- Scale: 5.91657527591555E8
-
Level ID: 1
[ Start Tile, End Tile ]
- Resolution: 78271.51696399994
- Scale: 2.95828763795777E8
-
Level ID: 2
[ Start Tile, End Tile ]
- Resolution: 39135.75848200009
- Scale: 1.47914381897889E8
-
Level ID: 3
[ Start Tile, End Tile ]
- Resolution: 19567.87924099992
- Scale: 7.3957190948944E7
-
Level ID: 4
[ Start Tile, End Tile ]
- Resolution: 9783.93962049996
- Scale: 3.6978595474472E7
-
Level ID: 5
[ Start Tile, End Tile ]
- Resolution: 4891.96981024998
- Scale: 1.8489297737236E7
- Format: PNG
- Compression Quality: 0.0
- Origin: X: -2.00377E7
Y: 3.02411E7
- Spatial Reference: 102100
(3857)
Initial Extent:
XMin: 933676.2016323631
YMin: 6824015.117491498
XMax: 980242.9614325493
YMax: 6855447.680356623
Spatial Reference: 102100
(3857)
Full Extent:
XMin: 932109.7333137502
YMin: 6809208.841205176
XMax: 996394.1142531199
YMax: 6849862.688000912
Spatial Reference: 102100
(3857)
Units: esriMeters
Supported Image Format Types: PNG32,PNG24,PNG,JPG,DIB,TIFF,EMF,PS,PDF,GIF,SVG,SVGZ,BMP
Document Info:
Title: Geobasisdaten
Author: jclarke
Comments: Bildflug im März und August 2024
Subject: Luftbildkarte mit Straßennetz, Flurstücksgrenzen und Hausnummern
Category:
Keywords: dop;dop10
AntialiasingMode: Best
TextAntialiasingMode: Force
Supports Dynamic Layers: true
Resampling: false
MaxRecordCount: 1000
MaxImageHeight: 4096
MaxImageWidth: 4096
Supported Query Formats: JSON, geoJSON
Supports Query Data Elements:
Min Scale: 9244648.868618
Max Scale: 564.248588
Min LOD: 8
Max LOD: 20
Supports Datum Transformation: true
Child Resources:
Info
Dynamic Layer
Supported Operations:
Export Map
Identify
QueryLegends
QueryDomains
Find
Return Updates