{
 "currentVersion": 10.91,
 "serviceDescription": "Topographische Karte Kreis Herford",
 "mapName": "Topographische Karten",
 "description": "",
 "copyrightText": "Kreis Herford und Geobasis.NRW",
 "supportsDynamicLayers": true,
 "layers": [
  {
   "id": 0,
   "name": "DTK25",
   "parentLayerId": -1,
   "defaultVisibility": true,
   "subLayerIds": null,
   "minScale": 40000,
   "maxScale": 5001,
   "type": "Raster Catalog Layer",
   "geometryType": "esriGeometryPolygon"
  },
  {
   "id": 1,
   "name": "DTK100_clip",
   "parentLayerId": -1,
   "defaultVisibility": true,
   "subLayerIds": null,
   "minScale": 0,
   "maxScale": 50000,
   "type": "Raster Layer"
  },
  {
   "id": 2,
   "name": "Abk5000_fb",
   "parentLayerId": -1,
   "defaultVisibility": true,
   "subLayerIds": [
    3,
    4,
    5,
    6,
    7,
    8,
    81,
    82,
    83,
    84,
    85,
    86,
    87,
    88,
    89,
    90,
    91,
    92,
    94,
    95,
    96,
    97,
    98,
    99,
    100,
    101,
    102,
    103,
    104,
    105,
    106,
    107,
    108,
    109,
    110,
    111,
    112,
    113,
    114,
    115,
    116,
    117,
    118,
    119,
    120,
    121,
    122,
    123,
    124,
    125,
    126,
    127,
    128,
    129,
    130,
    131,
    132,
    133,
    134,
    135,
    136,
    137,
    138,
    139,
    140,
    141,
    142,
    143
   ],
   "minScale": 0,
   "maxScale": 0,
   "type": "Group Layer"
  },
  {
   "id": 3,
   "name": "S_SYS_MAPPINGS_POLYGONS_3282",
   "parentLayerId": 2,
   "defaultVisibility": true,
   "subLayerIds": null,
   "minScale": 0,
   "maxScale": 0,
   "type": "Feature Layer",
   "geometryType": "esriGeometryPolygon"
  },
  {
   "id": 4,
   "name": "S_SYS_MAPPINGS_POLYGONS_3281",
   "parentLayerId": 2,
   "defaultVisibility": true,
   "subLayerIds": null,
   "minScale": 0,
   "maxScale": 0,
   "type": "Feature Layer",
   "geometryType": "esriGeometryPolygon"
  },
  {
   "id": 5,
   "name": "S_SYS_GEOTOPICS_LINES_2336",
   "parentLayerId": 2,
   "defaultVisibility": true,
   "subLayerIds": null,
   "minScale": 19900,
   "maxScale": 0,
   "type": "Feature Layer",
   "geometryType": "esriGeometryPolyline"
  },
  {
   "id": 6,
   "name": "S_SYS_MAPPINGS_POLYGONS_2336",
   "parentLayerId": 2,
   "defaultVisibility": true,
   "subLayerIds": null,
   "minScale": 0,
   "maxScale": 0,
   "type": "Feature Layer",
   "geometryType": "esriGeometryPolygon"
  },
  {
   "id": 7,
   "name": "S_SYS_MAPPINGS_POLYGONS_2282",
   "parentLayerId": 2,
   "defaultVisibility": true,
   "subLayerIds": null,
   "minScale": 0,
   "maxScale": 0,
   "type": "Feature Layer",
   "geometryType": "esriGeometryPolygon"
  },
  {
   "id": 8,
   "name": "S_SYS_ANNO_Abk5000_fb_1380",
   "parentLayerId": 2,
   "defaultVisibility": true,
   "subLayerIds": [
    80
   ],
   "minScale": 10100,
   "maxScale": 0,
   "type": "Annotation Layer",
   "geometryType": "esriGeometryPolygon"
  },
  {
   "id": 80,
   "name": "default",
   "parentLayerId": 8,
   "defaultVisibility": true,
   "subLayerIds": null,
   "minScale": 0,
   "maxScale": 0
  },
  {
   "id": 81,
   "name": "S_SYS_GEOTOPICS_LINES_1308",
   "parentLayerId": 2,
   "defaultVisibility": true,
   "subLayerIds": null,
   "minScale": 19900,
   "maxScale": 0,
   "type": "Feature Layer",
   "geometryType": "esriGeometryPolyline"
  },
  {
   "id": 82,
   "name": "S_SYS_MAPPINGS_POLYGONS_1301",
   "parentLayerId": 2,
   "defaultVisibility": true,
   "subLayerIds": null,
   "minScale": 0,
   "maxScale": 0,
   "type": "Feature Layer",
   "geometryType": "esriGeometryPolygon"
  },
  {
   "id": 83,
   "name": "S_SYS_MAPPINGS_LINES_1288",
   "parentLayerId": 2,
   "defaultVisibility": true,
   "subLayerIds": null,
   "minScale": 19900,
   "maxScale": 0,
   "type": "Feature Layer",
   "geometryType": "esriGeometryPolyline"
  },
  {
   "id": 84,
   "name": "S_SYS_MAPPINGS_POINTS_1288",
   "parentLayerId": 2,
   "defaultVisibility": true,
   "subLayerIds": null,
   "minScale": 5200,
   "maxScale": 0,
   "type": "Feature Layer",
   "geometryType": "esriGeometryMultipoint"
  },
  {
   "id": 85,
   "name": "S_SYS_MAPPINGS_LINES_1287",
   "parentLayerId": 2,
   "defaultVisibility": true,
   "subLayerIds": null,
   "minScale": 19900,
   "maxScale": 0,
   "type": "Feature Layer",
   "geometryType": "esriGeometryPolyline"
  },
  {
   "id": 86,
   "name": "S_SYS_MAPPINGS_POLYGONS_1282",
   "parentLayerId": 2,
   "defaultVisibility": true,
   "subLayerIds": null,
   "minScale": 0,
   "maxScale": 0,
   "type": "Feature Layer",
   "geometryType": "esriGeometryPolygon"
  },
  {
   "id": 87,
   "name": "S_SYS_MAPPINGS_POLYGONS_1281",
   "parentLayerId": 2,
   "defaultVisibility": true,
   "subLayerIds": null,
   "minScale": 0,
   "maxScale": 0,
   "type": "Feature Layer",
   "geometryType": "esriGeometryPolygon"
  },
  {
   "id": 88,
   "name": "S_SYS_MAPPINGS_POINTS_1131",
   "parentLayerId": 2,
   "defaultVisibility": true,
   "subLayerIds": null,
   "minScale": 5200,
   "maxScale": 0,
   "type": "Feature Layer",
   "geometryType": "esriGeometryMultipoint"
  },
  {
   "id": 89,
   "name": "S_SYS_MAPPINGS_POLYGONS_1107",
   "parentLayerId": 2,
   "defaultVisibility": true,
   "subLayerIds": null,
   "minScale": 0,
   "maxScale": 0,
   "type": "Feature Layer",
   "geometryType": "esriGeometryPolygon"
  },
  {
   "id": 90,
   "name": "S_SYS_MAPPINGS_POLYGONS_1106",
   "parentLayerId": 2,
   "defaultVisibility": true,
   "subLayerIds": null,
   "minScale": 0,
   "maxScale": 0,
   "type": "Feature Layer",
   "geometryType": "esriGeometryPolygon"
  },
  {
   "id": 91,
   "name": "S_SYS_MAPPINGS_POLYGONS_1100",
   "parentLayerId": 2,
   "defaultVisibility": true,
   "subLayerIds": null,
   "minScale": 0,
   "maxScale": 0,
   "type": "Feature Layer",
   "geometryType": "esriGeometryPolygon"
  },
  {
   "id": 92,
   "name": "S_SYS_ANNO_Abk5000_fb_380",
   "parentLayerId": 2,
   "defaultVisibility": true,
   "subLayerIds": [
    93
   ],
   "minScale": 10100,
   "maxScale": 0,
   "type": "Annotation Layer",
   "geometryType": "esriGeometryPolygon"
  },
  {
   "id": 93,
   "name": "default",
   "parentLayerId": 92,
   "defaultVisibility": true,
   "subLayerIds": null,
   "minScale": 0,
   "maxScale": 0
  },
  {
   "id": 94,
   "name": "S_SYS_MAPPINGS_POINTS_369",
   "parentLayerId": 2,
   "defaultVisibility": true,
   "subLayerIds": null,
   "minScale": 5200,
   "maxScale": 0,
   "type": "Feature Layer",
   "geometryType": "esriGeometryMultipoint"
  },
  {
   "id": 95,
   "name": "S_SYS_MAPPINGS_POLYGONS_365",
   "parentLayerId": 2,
   "defaultVisibility": true,
   "subLayerIds": null,
   "minScale": 0,
   "maxScale": 0,
   "type": "Feature Layer",
   "geometryType": "esriGeometryPolygon"
  },
  {
   "id": 96,
   "name": "S_SYS_MAPPINGS_LINES_360",
   "parentLayerId": 2,
   "defaultVisibility": true,
   "subLayerIds": null,
   "minScale": 19900,
   "maxScale": 0,
   "type": "Feature Layer",
   "geometryType": "esriGeometryPolyline"
  },
  {
   "id": 97,
   "name": "S_SYS_MAPPINGS_POINTS_350",
   "parentLayerId": 2,
   "defaultVisibility": true,
   "subLayerIds": null,
   "minScale": 5200,
   "maxScale": 0,
   "type": "Feature Layer",
   "geometryType": "esriGeometryMultipoint"
  },
  {
   "id": 98,
   "name": "S_SYS_GEOTOPICS_LINES_337",
   "parentLayerId": 2,
   "defaultVisibility": true,
   "subLayerIds": null,
   "minScale": 19900,
   "maxScale": 0,
   "type": "Feature Layer",
   "geometryType": "esriGeometryPolyline"
  },
  {
   "id": 99,
   "name": "S_SYS_GEOTOPICS_LINES_336",
   "parentLayerId": 2,
   "defaultVisibility": true,
   "subLayerIds": null,
   "minScale": 19900,
   "maxScale": 0,
   "type": "Feature Layer",
   "geometryType": "esriGeometryPolyline"
  },
  {
   "id": 100,
   "name": "S_SYS_MAPPINGS_POLYGONS_336",
   "parentLayerId": 2,
   "defaultVisibility": true,
   "subLayerIds": null,
   "minScale": 0,
   "maxScale": 0,
   "type": "Feature Layer",
   "geometryType": "esriGeometryPolygon"
  },
  {
   "id": 101,
   "name": "S_SYS_GEOTOPICS_LINES_330",
   "parentLayerId": 2,
   "defaultVisibility": true,
   "subLayerIds": null,
   "minScale": 19900,
   "maxScale": 0,
   "type": "Feature Layer",
   "geometryType": "esriGeometryPolyline"
  },
  {
   "id": 102,
   "name": "S_SYS_GEOTOPICS_LINES_314",
   "parentLayerId": 2,
   "defaultVisibility": true,
   "subLayerIds": null,
   "minScale": 19900,
   "maxScale": 0,
   "type": "Feature Layer",
   "geometryType": "esriGeometryPolyline"
  },
  {
   "id": 103,
   "name": "S_SYS_GEOTOPICS_LINES_311",
   "parentLayerId": 2,
   "defaultVisibility": true,
   "subLayerIds": null,
   "minScale": 19900,
   "maxScale": 0,
   "type": "Feature Layer",
   "geometryType": "esriGeometryPolyline"
  },
  {
   "id": 104,
   "name": "S_SYS_GEOTOPICS_LINES_308",
   "parentLayerId": 2,
   "defaultVisibility": true,
   "subLayerIds": null,
   "minScale": 19900,
   "maxScale": 0,
   "type": "Feature Layer",
   "geometryType": "esriGeometryPolyline"
  },
  {
   "id": 105,
   "name": "S_SYS_GEOTOPICS_LINES_303",
   "parentLayerId": 2,
   "defaultVisibility": true,
   "subLayerIds": null,
   "minScale": 19900,
   "maxScale": 0,
   "type": "Feature Layer",
   "geometryType": "esriGeometryPolyline"
  },
  {
   "id": 106,
   "name": "S_SYS_MAPPINGS_LINES_303",
   "parentLayerId": 2,
   "defaultVisibility": true,
   "subLayerIds": null,
   "minScale": 19900,
   "maxScale": 0,
   "type": "Feature Layer",
   "geometryType": "esriGeometryPolyline"
  },
  {
   "id": 107,
   "name": "S_SYS_GEOTOPICS_LINES_302",
   "parentLayerId": 2,
   "defaultVisibility": true,
   "subLayerIds": null,
   "minScale": 19900,
   "maxScale": 0,
   "type": "Feature Layer",
   "geometryType": "esriGeometryPolyline"
  },
  {
   "id": 108,
   "name": "S_SYS_MAPPINGS_LINES_302",
   "parentLayerId": 2,
   "defaultVisibility": true,
   "subLayerIds": null,
   "minScale": 19900,
   "maxScale": 0,
   "type": "Feature Layer",
   "geometryType": "esriGeometryPolyline"
  },
  {
   "id": 109,
   "name": "S_SYS_MAPPINGS_POLYGONS_302",
   "parentLayerId": 2,
   "defaultVisibility": true,
   "subLayerIds": null,
   "minScale": 0,
   "maxScale": 0,
   "type": "Feature Layer",
   "geometryType": "esriGeometryPolygon"
  },
  {
   "id": 110,
   "name": "S_SYS_MAPPINGS_POLYGONS_301",
   "parentLayerId": 2,
   "defaultVisibility": true,
   "subLayerIds": null,
   "minScale": 0,
   "maxScale": 0,
   "type": "Feature Layer",
   "geometryType": "esriGeometryPolygon"
  },
  {
   "id": 111,
   "name": "S_SYS_MAPPINGS_POINTS_300",
   "parentLayerId": 2,
   "defaultVisibility": true,
   "subLayerIds": null,
   "minScale": 5200,
   "maxScale": 0,
   "type": "Feature Layer",
   "geometryType": "esriGeometryMultipoint"
  },
  {
   "id": 112,
   "name": "S_SYS_MAPPINGS_POLYGONS_300",
   "parentLayerId": 2,
   "defaultVisibility": true,
   "subLayerIds": null,
   "minScale": 0,
   "maxScale": 0,
   "type": "Feature Layer",
   "geometryType": "esriGeometryPolygon"
  },
  {
   "id": 113,
   "name": "S_SYS_MAPPINGS_POLYGONS_290_ABKNW05_1301_NwAbkNw05",
   "parentLayerId": 2,
   "defaultVisibility": true,
   "subLayerIds": null,
   "minScale": 0,
   "maxScale": 0,
   "type": "Feature Layer",
   "geometryType": "esriGeometryPolygon"
  },
  {
   "id": 114,
   "name": "S_SYS_MAPPINGS_POLYGONS_290_ABKNW05_1304_NwAbkNw05",
   "parentLayerId": 2,
   "defaultVisibility": true,
   "subLayerIds": null,
   "minScale": 0,
   "maxScale": 0,
   "type": "Feature Layer",
   "geometryType": "esriGeometryPolygon"
  },
  {
   "id": 115,
   "name": "S_SYS_MAPPINGS_POLYGONS_290_ABKNW05_1309_NwAbkNw05",
   "parentLayerId": 2,
   "defaultVisibility": true,
   "subLayerIds": null,
   "minScale": 0,
   "maxScale": 0,
   "type": "Feature Layer",
   "geometryType": "esriGeometryPolygon"
  },
  {
   "id": 116,
   "name": "S_SYS_MAPPINGS_POINTS_289",
   "parentLayerId": 2,
   "defaultVisibility": true,
   "subLayerIds": null,
   "minScale": 5200,
   "maxScale": 0,
   "type": "Feature Layer",
   "geometryType": "esriGeometryMultipoint"
  },
  {
   "id": 117,
   "name": "S_SYS_MAPPINGS_LINES_288",
   "parentLayerId": 2,
   "defaultVisibility": true,
   "subLayerIds": null,
   "minScale": 19900,
   "maxScale": 0,
   "type": "Feature Layer",
   "geometryType": "esriGeometryPolyline"
  },
  {
   "id": 118,
   "name": "S_SYS_MAPPINGS_POINTS_288",
   "parentLayerId": 2,
   "defaultVisibility": true,
   "subLayerIds": null,
   "minScale": 5200,
   "maxScale": 0,
   "type": "Feature Layer",
   "geometryType": "esriGeometryMultipoint"
  },
  {
   "id": 119,
   "name": "S_SYS_MAPPINGS_POLYGONS_288",
   "parentLayerId": 2,
   "defaultVisibility": true,
   "subLayerIds": null,
   "minScale": 0,
   "maxScale": 0,
   "type": "Feature Layer",
   "geometryType": "esriGeometryPolygon"
  },
  {
   "id": 120,
   "name": "S_SYS_MAPPINGS_LINES_287",
   "parentLayerId": 2,
   "defaultVisibility": true,
   "subLayerIds": null,
   "minScale": 19900,
   "maxScale": 0,
   "type": "Feature Layer",
   "geometryType": "esriGeometryPolyline"
  },
  {
   "id": 121,
   "name": "S_SYS_MAPPINGS_LINES_284",
   "parentLayerId": 2,
   "defaultVisibility": true,
   "subLayerIds": null,
   "minScale": 19900,
   "maxScale": 0,
   "type": "Feature Layer",
   "geometryType": "esriGeometryPolyline"
  },
  {
   "id": 122,
   "name": "S_SYS_MAPPINGS_LINES_283",
   "parentLayerId": 2,
   "defaultVisibility": true,
   "subLayerIds": null,
   "minScale": 19900,
   "maxScale": 0,
   "type": "Feature Layer",
   "geometryType": "esriGeometryPolyline"
  },
  {
   "id": 123,
   "name": "S_SYS_MAPPINGS_POINTS_283",
   "parentLayerId": 2,
   "defaultVisibility": true,
   "subLayerIds": null,
   "minScale": 5200,
   "maxScale": 0,
   "type": "Feature Layer",
   "geometryType": "esriGeometryMultipoint"
  },
  {
   "id": 124,
   "name": "S_SYS_MAPPINGS_POLYGONS_283",
   "parentLayerId": 2,
   "defaultVisibility": true,
   "subLayerIds": null,
   "minScale": 0,
   "maxScale": 0,
   "type": "Feature Layer",
   "geometryType": "esriGeometryPolygon"
  },
  {
   "id": 125,
   "name": "S_SYS_MAPPINGS_POLYGONS_282",
   "parentLayerId": 2,
   "defaultVisibility": true,
   "subLayerIds": null,
   "minScale": 0,
   "maxScale": 0,
   "type": "Feature Layer",
   "geometryType": "esriGeometryPolygon"
  },
  {
   "id": 126,
   "name": "S_SYS_MAPPINGS_POLYGONS_281",
   "parentLayerId": 2,
   "defaultVisibility": true,
   "subLayerIds": null,
   "minScale": 0,
   "maxScale": 0,
   "type": "Feature Layer",
   "geometryType": "esriGeometryPolygon"
  },
  {
   "id": 127,
   "name": "S_SYS_MAPPINGS_LINES_280",
   "parentLayerId": 2,
   "defaultVisibility": true,
   "subLayerIds": null,
   "minScale": 19900,
   "maxScale": 0,
   "type": "Feature Layer",
   "geometryType": "esriGeometryPolyline"
  },
  {
   "id": 128,
   "name": "S_SYS_MAPPINGS_POLYGONS_280",
   "parentLayerId": 2,
   "defaultVisibility": true,
   "subLayerIds": null,
   "minScale": 0,
   "maxScale": 0,
   "type": "Feature Layer",
   "geometryType": "esriGeometryPolygon"
  },
  {
   "id": 129,
   "name": "S_SYS_MAPPINGS_POINTS_270",
   "parentLayerId": 2,
   "defaultVisibility": true,
   "subLayerIds": null,
   "minScale": 5200,
   "maxScale": 0,
   "type": "Feature Layer",
   "geometryType": "esriGeometryMultipoint"
  },
  {
   "id": 130,
   "name": "S_SYS_GEOTOPICS_LINES_239",
   "parentLayerId": 2,
   "defaultVisibility": true,
   "subLayerIds": null,
   "minScale": 19900,
   "maxScale": 0,
   "type": "Feature Layer",
   "geometryType": "esriGeometryPolyline"
  },
  {
   "id": 131,
   "name": "S_SYS_GEOTOPICS_LINES_237",
   "parentLayerId": 2,
   "defaultVisibility": true,
   "subLayerIds": null,
   "minScale": 19900,
   "maxScale": 0,
   "type": "Feature Layer",
   "geometryType": "esriGeometryPolyline"
  },
  {
   "id": 132,
   "name": "S_SYS_GEOTOPICS_LINES_235",
   "parentLayerId": 2,
   "defaultVisibility": true,
   "subLayerIds": null,
   "minScale": 19900,
   "maxScale": 0,
   "type": "Feature Layer",
   "geometryType": "esriGeometryPolyline"
  },
  {
   "id": 133,
   "name": "S_SYS_GEOTOPICS_LINES_233",
   "parentLayerId": 2,
   "defaultVisibility": true,
   "subLayerIds": null,
   "minScale": 19900,
   "maxScale": 0,
   "type": "Feature Layer",
   "geometryType": "esriGeometryPolyline"
  },
  {
   "id": 134,
   "name": "S_SYS_MAPPINGS_POLYGONS_200",
   "parentLayerId": 2,
   "defaultVisibility": true,
   "subLayerIds": null,
   "minScale": 0,
   "maxScale": 0,
   "type": "Feature Layer",
   "geometryType": "esriGeometryPolygon"
  },
  {
   "id": 135,
   "name": "S_SYS_MAPPINGS_POLYGONS_132",
   "parentLayerId": 2,
   "defaultVisibility": true,
   "subLayerIds": null,
   "minScale": 0,
   "maxScale": 0,
   "type": "Feature Layer",
   "geometryType": "esriGeometryPolygon"
  },
  {
   "id": 136,
   "name": "S_SYS_MAPPINGS_POINTS_131",
   "parentLayerId": 2,
   "defaultVisibility": true,
   "subLayerIds": null,
   "minScale": 5200,
   "maxScale": 0,
   "type": "Feature Layer",
   "geometryType": "esriGeometryMultipoint"
  },
  {
   "id": 137,
   "name": "S_SYS_MAPPINGS_POLYGONS_131",
   "parentLayerId": 2,
   "defaultVisibility": true,
   "subLayerIds": null,
   "minScale": 0,
   "maxScale": 0,
   "type": "Feature Layer",
   "geometryType": "esriGeometryPolygon"
  },
  {
   "id": 138,
   "name": "S_SYS_MAPPINGS_POLYGONS_130",
   "parentLayerId": 2,
   "defaultVisibility": true,
   "subLayerIds": null,
   "minScale": 0,
   "maxScale": 0,
   "type": "Feature Layer",
   "geometryType": "esriGeometryPolygon"
  },
  {
   "id": 139,
   "name": "S_SYS_MAPPINGS_POLYGONS_107",
   "parentLayerId": 2,
   "defaultVisibility": true,
   "subLayerIds": null,
   "minScale": 0,
   "maxScale": 0,
   "type": "Feature Layer",
   "geometryType": "esriGeometryPolygon"
  },
  {
   "id": 140,
   "name": "S_SYS_MAPPINGS_POLYGONS_106",
   "parentLayerId": 2,
   "defaultVisibility": true,
   "subLayerIds": null,
   "minScale": 0,
   "maxScale": 0,
   "type": "Feature Layer",
   "geometryType": "esriGeometryPolygon"
  },
  {
   "id": 141,
   "name": "S_SYS_MAPPINGS_POLYGONS_105",
   "parentLayerId": 2,
   "defaultVisibility": true,
   "subLayerIds": null,
   "minScale": 0,
   "maxScale": 0,
   "type": "Feature Layer",
   "geometryType": "esriGeometryPolygon"
  },
  {
   "id": 142,
   "name": "S_SYS_MAPPINGS_POLYGONS_104",
   "parentLayerId": 2,
   "defaultVisibility": true,
   "subLayerIds": null,
   "minScale": 0,
   "maxScale": 0,
   "type": "Feature Layer",
   "geometryType": "esriGeometryPolygon"
  },
  {
   "id": 143,
   "name": "S_SYS_MAPPINGS_POLYGONS_100",
   "parentLayerId": 2,
   "defaultVisibility": true,
   "subLayerIds": null,
   "minScale": 0,
   "maxScale": 0,
   "type": "Feature Layer",
   "geometryType": "esriGeometryPolygon"
  }
 ],
 "tables": [],
 "spatialReference": {
  "wkid": 102100,
  "latestWkid": 3857
 },
 "singleFusedMapCache": true,
 "tileInfo": {
  "rows": 256,
  "cols": 256,
  "dpi": 96,
  "format": "PNG",
  "compressionQuality": 0,
  "origin": {
   "x": -2.0037508342787E7,
   "y": 2.0037508342787E7
  },
  "spatialReference": {
   "wkid": 102100,
   "latestWkid": 3857
  },
  "lods": [
   {
    "level": 0,
    "resolution": 156543.03392800014,
    "scale": 5.91657527591555E8
   },
   {
    "level": 1,
    "resolution": 78271.51696399994,
    "scale": 2.95828763795777E8
   },
   {
    "level": 2,
    "resolution": 39135.75848200009,
    "scale": 1.47914381897889E8
   },
   {
    "level": 3,
    "resolution": 19567.87924099992,
    "scale": 7.3957190948944E7
   },
   {
    "level": 4,
    "resolution": 9783.93962049996,
    "scale": 3.6978595474472E7
   },
   {
    "level": 5,
    "resolution": 4891.96981024998,
    "scale": 1.8489297737236E7
   },
   {
    "level": 6,
    "resolution": 2445.98490512499,
    "scale": 9244648.868618
   },
   {
    "level": 7,
    "resolution": 1222.992452562495,
    "scale": 4622324.434309
   },
   {
    "level": 8,
    "resolution": 611.4962262813797,
    "scale": 2311162.217155
   },
   {
    "level": 9,
    "resolution": 305.74811314055756,
    "scale": 1155581.108577
   },
   {
    "level": 10,
    "resolution": 152.87405657041106,
    "scale": 577790.554289
   },
   {
    "level": 11,
    "resolution": 76.43702828507324,
    "scale": 288895.277144
   },
   {
    "level": 12,
    "resolution": 38.21851414253662,
    "scale": 144447.638572
   },
   {
    "level": 13,
    "resolution": 19.10925707126831,
    "scale": 72223.819286
   },
   {
    "level": 14,
    "resolution": 9.554628535634155,
    "scale": 36111.909643
   },
   {
    "level": 15,
    "resolution": 4.77731426794937,
    "scale": 18055.954822
   },
   {
    "level": 16,
    "resolution": 2.388657133974685,
    "scale": 9027.977411
   },
   {
    "level": 17,
    "resolution": 1.1943285668550503,
    "scale": 4513.988705
   },
   {
    "level": 18,
    "resolution": 0.5971642835598172,
    "scale": 2256.994353
   },
   {
    "level": 19,
    "resolution": 0.29858214164761665,
    "scale": 1128.497176
   },
   {
    "level": 20,
    "resolution": 0.14929107082380833,
    "scale": 564.248588
   },
   {
    "level": 21,
    "resolution": 0.07464553541190416,
    "scale": 282.124294
   },
   {
    "level": 22,
    "resolution": 0.03732276770595208,
    "scale": 141.062147
   },
   {
    "level": 23,
    "resolution": 0.01866138385297604,
    "scale": 70.5310735
   }
  ]
 },
 "initialExtent": {
  "xmin": 959833.6486584679,
  "ymin": 6829707.176463791,
  "xmax": 960464.0197108767,
  "ymax": 6830100.083499606,
  "spatialReference": {
   "cs": "pcs",
   "wkid": 102100
  }
 },
 "fullExtent": {
  "xmin": 910432.4769795288,
  "ymin": 6797927.474503154,
  "xmax": 1001875.4171394624,
  "ymax": 6857161.403090508,
  "spatialReference": {
   "cs": "pcs",
   "wkid": 102100
  }
 },
 "minScale": 577790.554289,
 "maxScale": 564.248588,
 "minLOD": 0,
 "maxLOD": 23,
 "units": "esriMeters",
 "supportedImageFormatTypes": "PNG32,PNG24,PNG,JPG,DIB,TIFF,EMF,PS,PDF,GIF,SVG,SVGZ,BMP",
 "documentInfo": {
  "Title": "Geobasisdaten",
  "Author": "jclarke",
  "Comments": "",
  "Subject": "",
  "Category": "",
  "AntialiasingMode": "Best",
  "TextAntialiasingMode": "Force",
  "Keywords": "Kreis Herford"
 },
 "capabilities": "Map,Query,Data",
 "supportedQueryFormats": "JSON, geoJSON",
 "hasVersionedData": true,
 "exportTilesAllowed": false,
 "referenceScale": 5000,
 "datumTransformations": [
  {
   "geoTransforms": [
    {
     "wkid": 108001,
     "latestWkid": 1241,
     "transformForward": true,
     "name": "NAD_1927_To_NAD_1983_NADCON"
    }
   ]
  },
  {
   "geoTransforms": [
    {
     "wkid": 108001,
     "latestWkid": 1241,
     "transformForward": false,
     "name": "NAD_1927_To_NAD_1983_NADCON"
    }
   ]
  },
  {
   "geoTransforms": [
    {
     "wkid": 1149,
     "latestWkid": 1149,
     "transformForward": true,
     "name": "ETRS_1989_To_WGS_1984"
    }
   ]
  },
  {
   "geoTransforms": [
    {
     "wkid": 1149,
     "latestWkid": 1149,
     "transformForward": false,
     "name": "ETRS_1989_To_WGS_1984"
    }
   ]
  }
 ],
 "supportsDatumTransformation": true,
 "maxRecordCount": 1000,
 "maxImageHeight": 4096,
 "maxImageWidth": 4096,
 "supportedExtensions": "",
 "resampling": false
}
